BEGIN:VCALENDAR
VERSION:2.0
PRODID:-//North Wales Classic Trials - ECPv6.15.20//NONSGML v1.0//EN
CALSCALE:GREGORIAN
METHOD:PUBLISH
X-ORIGINAL-URL:https://northwalesclassictrials.com
X-WR-CALDESC:Events for North Wales Classic Trials
REFRESH-INTERVAL;VALUE=DURATION:PT1H
X-Robots-Tag:noindex
X-PUBLISHED-TTL:PT1H
BEGIN:VTIMEZONE
TZID:Europe/London
BEGIN:DAYLIGHT
TZOFFSETFROM:+0000
TZOFFSETTO:+0100
TZNAME:BST
DTSTART:20240331T010000
END:DAYLIGHT
BEGIN:STANDARD
TZOFFSETFROM:+0100
TZOFFSETTO:+0000
TZNAME:GMT
DTSTART:20241027T010000
END:STANDARD
BEGIN:DAYLIGHT
TZOFFSETFROM:+0000
TZOFFSETTO:+0100
TZNAME:BST
DTSTART:20250330T010000
END:DAYLIGHT
BEGIN:STANDARD
TZOFFSETFROM:+0100
TZOFFSETTO:+0000
TZNAME:GMT
DTSTART:20251026T010000
END:STANDARD
BEGIN:DAYLIGHT
TZOFFSETFROM:+0000
TZOFFSETTO:+0100
TZNAME:BST
DTSTART:20260329T010000
END:DAYLIGHT
BEGIN:STANDARD
TZOFFSETFROM:+0100
TZOFFSETTO:+0000
TZNAME:GMT
DTSTART:20261025T010000
END:STANDARD
END:VTIMEZONE
BEGIN:VEVENT
DTSTART;TZID=Europe/London:20250629T110000
DTEND;TZID=Europe/London:20250629T110000
DTSTAMP:20260423T134744
CREATED:20250319T192054Z
LAST-MODIFIED:20250627T212700Z
UID:149-1751194800-1751194800@northwalesclassictrials.com
SUMMARY:Nantmawr Quarry - Club Round 2
DESCRIPTION:Nantmawr Quarry – Club Round 2 \nEnter online here \nOnline entries close at 5pm on Saturday 28th June 2025. \nSign on and briefing prior to start (all riders must attend the briefing). \nTrial starts 11am. \nChris de Burger butty van will be on site for all events. \nwhat3words: https://w3w.co/success.gives.dragonfly \nGoogle maps: https://maps.app.goo.gl/yQzd1ZENv5dfU4Nw5 \n 
URL:https://northwalesclassictrials.com/event/venue-tbc-round-2/
LOCATION:Nantmawr Quarry\, Quarry Lane\, Morda\, Oswestry\, SY10 9HJ
CATEGORIES:club round
ORGANIZER;CN="North Wales Classic Trials":MAILTO:info@northwalesclassictrials.com
END:VEVENT
END:VCALENDAR